BEGIN:VCALENDAR
VERSION:2.0
PRODID:-//Aitch B - ECPv6.15.20//NONSGML v1.0//EN
CALSCALE:GREGORIAN
METHOD:PUBLISH
X-ORIGINAL-URL:https://aitchb.com
X-WR-CALDESC:Events for Aitch B
REFRESH-INTERVAL;VALUE=DURATION:PT1H
X-Robots-Tag:noindex
X-PUBLISHED-TTL:PT1H
BEGIN:VTIMEZONE
TZID:UTC
BEGIN:STANDARD
TZOFFSETFROM:+0000
TZOFFSETTO:+0000
TZNAME:UTC
DTSTART:20230101T000000
END:STANDARD
END:VTIMEZONE
BEGIN:VEVENT
DTSTART;TZID=UTC:20250206T143000
DTEND;TZID=UTC:20250206T153000
DTSTAMP:20260423T160603
CREATED:20250202T212349Z
LAST-MODIFIED:20250202T231353Z
UID:1288-1738852200-1738855800@aitchb.com
SUMMARY:NIGHT TIME ECONOMY SUMMIT: Hockley Social Club\, Birmingham\, Thu\, Feb 6th 2025
DESCRIPTION:Get ready for an unmissable event! \nAitch B is back on another esteemed panel of experts and speakers at the highly anticipated Night Time Economy Summit 2025. This industry-leading event will explore the future of nightlife\, bringing together visionaries to discuss and shape the vibrant after-dark culture we all love. Expect insightful discussions\, powerful ideas\, and a celebration of the night-time economy’s impact. Don’t miss this opportunity to be part of the conversation that’s driving change—mark your calendars and join us! 🎉🌃  \nThe summit will be held over two days\, and Aitch B will be featured on the panel on Thursday\, 6th February\, from 14.30pm discussing ‘Where is Counterculture in 2025? Alongside esteemed fellow panellists  \n\nDon Letts (Author / Producer)\nLisa Mafia (DJ / Artist)\nSteven Braines (HE.SHE.THEY.)\n\nThe panel will be moderated by John Robb (TV / Journalist) \nThe Night Time Industries Association (NTIA) is thrilled to announce that the Night Time Economy Summit 2025 will take place in Birmingham at Hockley Social Club from Wednesday\, February 5\, to Thursday\, February 6\, 2025. \nThis year’s summit is held in collaboration with a diverse range of partners\, including the West Midlands Combined Authority\, She.Said.So\, Earth Percent\, Skiddle\, ACS\, Institute of Hospitality\, GigPig\, Defected\, and VibeLab\, plus many more. \n  \n\n  \nFor full details and tickets\, CLICK 👇🏾👇🏾👇🏾👇🏾 \n \n 
URL:https://aitchb.com/event/night-time-economy-summit-hockley-social-club-birmingham-thu-feb-6th-2022-2/
LOCATION:Hockley Social Club\,\, 60 Hampton St\,\, Birmingham\, B19 3LU\, United Kingdom
CATEGORIES:Conference
ATTACH;FMTTYPE=image/png:https://aitchb.com/wp-content/uploads/2025/02/NTES25-MI.png
END:VEVENT
BEGIN:VEVENT
DTSTART;VALUE=DATE:20240208
DTEND;VALUE=DATE:20240210
DTSTAMP:20260423T160603
CREATED:20240116T110203Z
LAST-MODIFIED:20240116T195710Z
UID:1015-1707350400-1707523199@aitchb.com
SUMMARY:NIGHT TIME ECONOMY SUMMIT: Freight Island\, Manchester\, Thu\, Feb 8th 2024
DESCRIPTION:Hold your breath!  \nAitch B has scored an exclusive invite to join the esteemed panel of experts and captivating speakers at the highly anticipated Night Time Economy Summit 2024! Brace yourself for an electrifying event that’s set to shape the future of our vibrant nightlife. It’s going to be an absolute banger! 🎉🌃  \nThe summit is spread across two days\, and Aitch B will be featured on the panel alongside \n\nRowetta\nGary Powell\nLisa Mafia\n\n  \nThe topic for the panel will be ‘Cultivating Home-Grown Talent: Changing the Future ‘ and will be moderated by Ras Kwame on Thursday\, 8th February\, from 16.30pm – 17.15pm. \n\n\n\nThe Night Time Industries Association (NTIA) is thrilled to unveil the complete lineup for the 8th and 9th of February as this monumental event takes place at the iconic Freight Island in Manchester. Get ready to immerse yourself in an extraordinary experience filled with insightful discussions and influential voices shaping the future of the night-time economy. Don’t miss out on this authoritative gathering! \n\n \n\n\n\nThis year’s summit promises to be one of the most ambitious events yet. It will bring together a diverse range of industry leaders\, experts\, and visionaries to explore and celebrate the significance of the Night Time Economy. Speakers alongside Aitch B will include Afrodeutsche\, Andy Burnham\, Bev Craig\, Carly Heath\, Danny Howard\, Gok Wan\, Philip Kolvin KC\, Gary Powell\, Jeff Smith MP\, Jeremy Pritchard\, John Robb\, Kate Nicholls\, Katouche\, Keith Reilly\, Kevin Hollinrake\, Lapsley\, Lewis G. Burton\, Lisa Mafia\, Maria May\, Mirik Milan\, Natalie Stewart aka Floacist\, Ollie Ryder\, Sam Divine\, Sacha Lord\, Ras Kwame\, Rowetta\, Wez Saunders\, Sam Divine\, Sarah Story\, Suzanne Bull MBE\, Yewande Adeniran\, and Yousef. \n  \nThe summit will feature a momentous occasion as the Mayors of the North and West Midlands\, namely Andy Burnham\, Mayor of Greater Manchester\, Tracy Brabin\, Mayor of East Yorkshire\, Andy Street\, Mayor of West Midlands\, and Steve Rotherham\, Mayor of Liverpool City Region\, come together to discuss the pivotal role of the Night Time Economy in their regions. \n  \nThis unique collaboration highlights the growing recognition of the sector’s importance in driving economic growth\, fostering creativity\, and enhancing the overall quality of life. \n\n\n 
URL:https://aitchb.com/event/night-time-economy-summit-freight-island-manchester-thu-feb-8th-2024/
LOCATION:Freight Island\, 11 Baring St\,\, Manchester\, M1 2PZ\, United Kingdom
CATEGORIES:Conference
ATTACH;FMTTYPE=image/png:https://aitchb.com/wp-content/uploads/2024/01/NTES24-SPEAKER-GRAPHICS-MI-1.png
END:VEVENT
END:VCALENDAR