BEGIN:VCALENDAR
VERSION:2.0
PRODID:-//Aitch B - ECPv6.15.20//NONSGML v1.0//EN
CALSCALE:GREGORIAN
METHOD:PUBLISH
X-ORIGINAL-URL:https://aitchb.com
X-WR-CALDESC:Events for Aitch B
REFRESH-INTERVAL;VALUE=DURATION:PT1H
X-Robots-Tag:noindex
X-PUBLISHED-TTL:PT1H
BEGIN:VTIMEZONE
TZID:UTC
BEGIN:STANDARD
TZOFFSETFROM:+0000
TZOFFSETTO:+0000
TZNAME:UTC
DTSTART:20240101T000000
END:STANDARD
END:VTIMEZONE
BEGIN:VEVENT
DTSTART;VALUE=DATE:20250801
DTEND;VALUE=DATE:20250804
DTSTAMP:20260423T170729
CREATED:20250611T202641Z
LAST-MODIFIED:20250616T093228Z
UID:1499-1754006400-1754265599@aitchb.com
SUMMARY:MARGATE SOUL FESTIVAL\, Newgate Lower Promenade\, Friday 1st - Sunday 3rd August\, 2025
DESCRIPTION:Margate Soul Festival 2025:\n\nThe Ultimate Soul Music Weekender \nGet ready for the Margate Soul Festival 2025\, happening from Friday\, August 1st to Sunday\, August 3rd\, at the stunning Newgate Lower Promenade by the sea. This iconic soul music festival promises a weekend packed with **non-stop live music\, legendary DJs\, dancing\, and breathtaking seaside vibes**. Whether you’re a soul music lover or just looking for an unforgettable summer festival experience\, Margate is the place to be. \n \n\n\n\n\n\n\n\n\n\n\n\n\n  \nWhat to Expect at Margate Soul Festival 2025\nThis year’s Margate Soul Weekender will be bigger and better than ever\, featuring an incredible lineup of soul legends\, top DJs\, and live performers. Hosted at the beautiful coastal town of Margate\, the festival is famous for its timeless soul classics\, vibrant energy\, and stunning sunsets by the beach. Enjoy dancing with a lively crowd while soaking in the electric atmosphere of the UK’s ultimate celebration of soul music. \nLive Lineup for Margate Soul Festival 2025\nSaturday\, August 2nd Live Performances: \n– The S.O.S Band   \n– Loose Ends   \n– The Drizabone Soul Family   \nSunday\, August 3rd Live Performances: \n– Tmf Maze (formerly Maze Featuring Frankie Beverly)   \n– Earth\, Wind & Fire Experience by Al McKay   \n– Saxon Sound System DJ Set   \nWeekender DJ Lineup (A-Z) \nAitch B / Bobby & Steve / Dean Thatcher / DJ Destruction / DJ Swerve\nDr Bob Jones / Eddie Piller / Fraggle / Handson Family / Jo Mills\nLisa Loud / Marcia Carr / Operator / Rocky / Ronnie Coldsweat\nSaxon Sound System / Vicky Vibe + many more! \nWhy You Can’t Miss It \nIncredible live music and performances:\nExperience legendary soul and funk artists live on stage.   \nTop DJs:\nDance to curated sets by the best in the industry.   \nCoastal festival vibes:\nEnjoy Margate’s seaside charm with sunsets\, beachside dancing\, and a buzzing atmosphere.   \nPlan Your Weekend\nWeekend passes and day tickets are selling fast\, so don’t wait! Secure your spot now for this unforgettable weekend of soulful music and coastal fun. For more details on local accommodation and travel\, visit the Margate Soul Weekender Stay & Travel page \nLocation: The Parade\, Margate\, United Kingdom \nPlease mark your calendars and join us for Margate Soul Festival 2025\, the UK’s top soul music festival. From soul classics to live performances and DJ sets\, this is your chance to create summer memories by the beach. Don’t miss out!
URL:https://aitchb.com/event/margate-soul-festival/
LOCATION:The Parade\, Margate\, United Kingdom
CATEGORIES:Parties,Music,Weekender,Live Performances
ATTACH;FMTTYPE=image/png:https://aitchb.com/wp-content/uploads/2025/06/Featured-Image-2.png
ORGANIZER;CN="Margate Soul Festival":MAILTO:info@margatesoulfestival.co.uk
END:VEVENT
END:VCALENDAR