BEGIN:VCALENDAR
VERSION:2.0
PRODID:-//Aitch B - ECPv6.15.20//NONSGML v1.0//EN
CALSCALE:GREGORIAN
METHOD:PUBLISH
X-ORIGINAL-URL:https://aitchb.com
X-WR-CALDESC:Events for Aitch B
REFRESH-INTERVAL;VALUE=DURATION:PT1H
X-Robots-Tag:noindex
X-PUBLISHED-TTL:PT1H
BEGIN:VTIMEZONE
TZID:UTC
BEGIN:STANDARD
TZOFFSETFROM:+0000
TZOFFSETTO:+0000
TZNAME:UTC
DTSTART:20230101T000000
END:STANDARD
END:VTIMEZONE
BEGIN:VTIMEZONE
TZID:Europe/London
BEGIN:DAYLIGHT
TZOFFSETFROM:+0000
TZOFFSETTO:+0100
TZNAME:BST
DTSTART:20240331T010000
END:DAYLIGHT
BEGIN:STANDARD
TZOFFSETFROM:+0100
TZOFFSETTO:+0000
TZNAME:GMT
DTSTART:20241027T010000
END:STANDARD
BEGIN:DAYLIGHT
TZOFFSETFROM:+0000
TZOFFSETTO:+0100
TZNAME:BST
DTSTART:20250330T010000
END:DAYLIGHT
BEGIN:STANDARD
TZOFFSETFROM:+0100
TZOFFSETTO:+0000
TZNAME:GMT
DTSTART:20251026T010000
END:STANDARD
BEGIN:DAYLIGHT
TZOFFSETFROM:+0000
TZOFFSETTO:+0100
TZNAME:BST
DTSTART:20260329T010000
END:DAYLIGHT
BEGIN:STANDARD
TZOFFSETFROM:+0100
TZOFFSETTO:+0000
TZNAME:GMT
DTSTART:20261025T010000
END:STANDARD
END:VTIMEZONE
BEGIN:VEVENT
DTSTART;TZID=UTC:20250816T200000
DTEND;TZID=UTC:20250817T010000
DTSTAMP:20260423T220342
CREATED:20250610T121832Z
LAST-MODIFIED:20250616T095122Z
UID:1488-1755374400-1755392400@aitchb.com
SUMMARY:SOUL FIESTA\, SOUL CARNAVAL: BEST WESTERN HOTEL\, SATURDAY\, AUGUST 16TH 2025
DESCRIPTION:Soul Carnaval – Saturday 16th August 2025\nGet ready for a night of soulful energy and vibrant carnival spirit! \n \n  \n  \n  \n  \n  \n  \n  \n  \n  \n  \n  \n  \n  \n  \n  \n  \nSoul Fiesta Events proudly presents Soul Carnaval\, our unmissable summer celebration\, which will take place on Saturday\, August 16th\, 2025\, at the Best Western Thurrock Hotel\, Essex. \nJoin us for an unforgettable evening featuring a sensational  \nDJ line-up\, carnival vibes\, and non-stop soulful beats\, all under one roof! \n Aitch B (Soul II Soul legend) \n Brian Kelly (All things groove) \n Glen Sherry (Deep cuts & rare gems) \n Jon Jules (Mi-Soul’s Mixmaster) \n Mike Vitti (Funky Nation Maestro) \n Scott James (Stomp Radio Head Honcho) \n Steve Kite (Zero Radio’s finest) \nCome and experience the true spirit of Soul Fiesta — uplifting music\, great people\, and an electric atmosphere. \nLet’s make memories together at Soul Carnaval 2025! \n Event Highlights:\n 7 top DJs – one epic lineup\n 5 hours of uninterrupted soul\, funk & disco\n On-site hotel deals are available\n Raffle prizes + giveaways\n—-\n Location:\nBest Western Thurrock HotelShip Lane\, Aveley\, RM19 1YN\n—-\n Tickets & Hotel Packages: https://soulfiestaevents.com/SoulCarnaval2025\nLimited VIP options available – move fast.
URL:https://aitchb.com/event/soul-fiesta-soul-carnaval-best-western-hotel-saturday-august-16th-2025/
LOCATION:Best Wester Hotel\, Ship Ln\, Aveley\,\, Purfleet-on-Thames\,\, Purfleet\, RM19 1YN\, United Kingdom
CATEGORIES:Parties,Dance & Nightclub,Nightlife,Music
ATTACH;FMTTYPE=image/png:https://aitchb.com/wp-content/uploads/2025/06/250816-Soul-Fiesta-Soul-Carnival-EMI-2.png
END:VEVENT
BEGIN:VEVENT
DTSTART;TZID=UTC:20250718T180000
DTEND;TZID=UTC:20250718T230000
DTSTAMP:20260423T220342
CREATED:20250607T071410Z
LAST-MODIFIED:20250607T071410Z
UID:1466-1752861600-1752879600@aitchb.com
SUMMARY:SOUL360 & ALL THINGS SOULFUL @ THE BBE STORE\, FRIDAY\, JULY 18TH 2025
DESCRIPTION:Join Us for a Night of Soulful Music and Dance in London!\nGet ready for an unforgettable night of soul\, funk\, boogie\, rare groove\, and soulful house with\nSoul360 and All Things Soulful!This exclusive event brings together two legendary DJs\,\nAitch B and Pete Mello\,\nspinning a strictly vinyl selection guaranteed to keep you dancing all night long.Soul360 & All Things Soulful Vinyl Session \n \n When: Friday\, July 18th Time: 6 PM – 11 PM Where: The BBE Store\, Arch 376\, 10 Helmsley Pl\, London\, E8 3SB FREE ENTRY – Don’t miss this incredible night of music and good vibes!What’s in it for you?:– Enjoy the best cross section of soul\, funk\, and boogie\, soulful house and more on vinyl.– Soak in the electric atmosphere of one of London’s most intimate venues\, The BBE Store.– Discover a unique collaboration between two soulful music experts\, Aitch B and Pete Mello.– Dance to rare grooves and uplifting beats that are perfect for music lovers and partygoers alike.Experience the timeless magic of vinyl records and connect\nwith a community of people who love soulful music as much as you do.So please mark your calendars and join us for the ultimate soulful music night in London!Soul360 & All Things Soulful Vinyl SessionSee you on the dance floor!
URL:https://aitchb.com/event/soul360-all-things-soulful-the-bbe-store-friday-july-18th-2025/
LOCATION:The BBE Store\, Arch 376\, 10 Helmsley Placw\, London\, E8 3SB\, United Kingdom
CATEGORIES:Parties,Dance & Nightclub,Nightlife,Music
ATTACH;FMTTYPE=image/png:https://aitchb.com/wp-content/uploads/2025/06/250718-@-BBE.png
ORGANIZER;CN="Aitch B (SOUL360)":MAILTO:hello@aitchb.com
END:VEVENT
BEGIN:VEVENT
DTSTART;TZID=UTC:20250705T200000
DTEND;TZID=UTC:20250706T010000
DTSTAMP:20260423T220342
CREATED:20250606T113515Z
LAST-MODIFIED:20250606T182113Z
UID:1458-1751745600-1751763600@aitchb.com
SUMMARY:ALL ABOUT DA BOOGIE: Horse and Groom\, Sat\, July 5th 2025
DESCRIPTION:Perry Louis & Aitch B Presents:\nAll About Da Boogie – The Ultimate Funk\, Soul & Jazz Funk Party\nJoin us for an unforgettable night of vinyl-only Funk\, Soul\, Jazz Funk\, Rare Groove\, and Boogie—a true celebration of timeless grooves and classic vibes! \n📅 Date: Saturday\, July 5th\, 2025 \n⏰ Time: 8 PM – 1 AM \n📍 Venue: The Horse & Groom\, 28 Curtain Road\, London\, EC2A 3NZ \n🎶 Your DJs for the Night\n🎧 Perry Louis  (JazzCotech\, Shiftless Shuffle\, and Mi-Soul Radio)\n🎧 Aitch B – A legend from Soul360 and Soul II Soul \n🌟 Special Guest DJ: Abbey Shah\nAbbey Shah\, a pivotal name in London’s music and record shop scene\, brings decades of experience from iconic venues like Crackers and Catch A Groove. With ties to Bluebird Records\, Radio Invicta\, and Horizon\, Abbey’s set will be one for the history books. \n💃 Don’t Miss This Vinyl-Only Dance Party\nWhether you’re a fan of Funk\, Soul\, Rare Groove\, or Jazz Funk\, this party promises to be a night to remember.\nDance the night away and relive the golden era of music! \n🎟️ Tickets & Entry: \nVisit AllAboutDaBoogie.com for tickets and event info. \nOr pay at the door (Cash or Card): \n\n£5.00 (Before 10 PM)\n£10.00 (After 10 PM)\n\n📞 For more details\, call AADB at 07957560557 or 07836 383222 \nSee you on the dance floor! 🎉 \n\n\nAll About Da Boogie Saturday 5 July 2025 | 8pm–1am
URL:https://aitchb.com/event/all-about-da-boogie-horse-and-groom-sat-july-5th-2025/
LOCATION:Horse and Groom\, 28 Curtain Road\, London\, EC2A 3NZ\, United Kingdom
CATEGORIES:Parties,Nightlife
ATTACH;FMTTYPE=image/png:https://aitchb.com/wp-content/uploads/2025/06/AADB-250705-Facebook-Header-OUR-NEXT-EVENT.png
ORGANIZER;CN="Aitch B (SOUL360) & Perry Louis (JAZZCOTECH)":MAILTO:us@allaboutdaboogie.com
END:VEVENT
BEGIN:VEVENT
DTSTART;TZID=UTC:20250411T210000
DTEND;TZID=UTC:20250412T020000
DTSTAMP:20260423T220342
CREATED:20250327T084006Z
LAST-MODIFIED:20250327T231353Z
UID:1404-1744405200-1744423200@aitchb.com
SUMMARY:ALL ABOUT DA BOOGIE: Horse and Groom\, Fri\, April 11th 2025
DESCRIPTION:Perry Louis & Aitch B Presents: All About Da BoogieThe Ultimate Strictly Vinyl Funk\, Soul\, Jazz Funk\, Rare Groove\, and Boogie Party\nFriday\, March 14th\, 2025 / 9 PM – 2 AMThe Horse & Groom\, 28 Curtain Road\, London\, EC2A 3NZ\n\nYour Musical Curators: 🎧 Perry Louis (JazzCotech\, Shiftless Shuffle\, Mi-Soul Radio)🎧 Aitch B (Soul360\, Soul II Soul\, London Music Radio)\n\n\nTHIS MONTH’S SPECIAL GUEST DJs\, BOBBY & STEVE\n\n\nBobby & Steve’s impact on the club scene is undeniable!\n\nThey went from being key figures in the soul\, rare-groove party scene to becoming the pioneers of the soulful house scene. Their passion for soulful house has helped shape the global music scene and continues to inspire fans and artists.\nSo Perry Louis and Aitch B are honoured and excited to present a unique one-off in which Bobby and Steve will return to their original vinyl boogie roots.\n\n\n\n\nThis will be an experience not to be missed.\nSee AllAboutDaBoogie.com for more info and tickets.\n\n\n\n\nOr pay at the door (Cash or Card):£5.00 (Before 11 PM) / £10.00 (After 11 PM)\n\n\nFor further info\, contact AADB on 07957560557 or 07836 383222\nSee you on the dance floor!\n\n \n\n250411 EVENT PROMO (Final)
URL:https://aitchb.com/event/all-about-da-boogie-horse-and-groom-fri-april-11th-2025-3-2-2/
LOCATION:Horse and Groom\, 28 Curtain Road\, London\, EC2A 3NZ\, United Kingdom
CATEGORIES:Parties,Nightlife
ATTACH;FMTTYPE=image/png:https://aitchb.com/wp-content/uploads/2025/01/AADB-2nd-Friday.png
ORGANIZER;CN="Aitch B (SOUL360) & Perry Louis (JAZZCOTECH)":MAILTO:us@allaboutdaboogie.com
END:VEVENT
BEGIN:VEVENT
DTSTART;VALUE=DATE:20250321
DTEND;VALUE=DATE:20250325
DTSTAMP:20260423T220342
CREATED:20240404T091338Z
LAST-MODIFIED:20250124T203955Z
UID:1124-1742515200-1742860799@aitchb.com
SUMMARY:Spring Soul & Reggae Weekender: Hemsby Viilage\, Norfolk\, Fri\, March 21st ~ Mon\, 24th 2025
DESCRIPTION:The Spring Weekender 2025 at Hemsby Beach Holiday Park is a must for Reggae and Soul fans!  \nEnjoy live performances from Lovers Rock legends Sandra Cross & Don Campbell\, The Divettes\, and comedian Richard Blackwood. Plus\, 30 top UK DJs will spin Reggae\, Revival\, Dancehall\, Rare Groove\, and Soul classics across three rooms until 4am every night! \nThe fun doesn’t stop there! Get ready for daytime activities like Reggae & Soul Karaoke\, RnB & Dancehall Line Dancing\, a thrilling Mobile Phone DJ Contest\, Quizzle\, Reggae Bingo\, and Giant Games that’ll keep you entertained all day. And the nights? Pure magic. Saturday invites you to an elegant All-White affair\, while Sunday turns up the vibe with a “wear something blue” theme. You won’t want to miss a moment! \nAdding to the magic\, the Weekender will host its FIRST-EVER Wedding Weekender! RnB Godfather Wayne Marshall is getting married nearby\, and the celebrations will carry over to the Weekender. On Saturday\, female attendees can join the bride-to-be’s Hen Party\, featuring a performance by male dancers TEN and XL from The Chocolate Men. On Sunday\, after the wedding\, Wayne Marshall and his superstar guests will take over the main stage with a live band for an unforgettable post-wedding party. \n\n\n  \n\nCoaches are available across London and the Midlands for just a £60 return. \nWith prices starting at only £99\, covering ALL accommodation and entertainment\, this cost-conscious Weekender has firmly established itself as the NUMBER ONE destination for Reggae and Soul music lovers. Don’t miss out—secure your spot today and experience a weekend unlike any other! \navailable via TheSpringWeekender.com. \nIf you attended last year’s event\, you know it’s worth it\, and if you didn’t\, then it’s time to come and experience the ultimate soul and reggae experience!
URL:https://aitchb.com/event/the-spring-soul-and-reggae-weekender-march-22nd-to-25th-2024-2/
LOCATION:Richardson’s Hemsby Beach Holiday Park\, Beach Rd\, Hemsby\, Great Yarmouth\, NR29 4HR\, United Kingdom
CATEGORIES:Parties,Nightlife,Music,Weekender
ATTACH;FMTTYPE=image/png:https://aitchb.com/wp-content/uploads/2024/04/250421-SPRINGWEEKENDER-MI-1-e1737750302275.png
END:VEVENT
BEGIN:VEVENT
DTSTART;TZID=UTC:20250314T210000
DTEND;TZID=UTC:20250315T020000
DTSTAMP:20260423T220342
CREATED:20250306T002745Z
LAST-MODIFIED:20250306T003145Z
UID:1369-1741986000-1742004000@aitchb.com
SUMMARY:ALL ABOUT DA BOOGIE: Horse and Groom\, Fri\, March 14th 2025
DESCRIPTION:Perry Louis & Aitch B Presents: All About Da BoogieThe Ultimate Strictly Vinyl Funk\, Soul\, Jazz Funk\, Rare Groove\, and Boogie Party\nFriday\, March 14th\, 2025 / 9 PM – 2 AMThe Horse & Groom\, 28 Curtain Road\, London\, EC2A 3NZ\n\nYour Musical Curators: 🎧 Perry Louis (JazzCotech\, Shiftless Shuffle\, Mi-Soul Radio)🎧 Aitch B (Soul360\, Soul II Soul\, London Music Radio)\n\nThis Month’s guest DJ\, Dezzi D\n\nDezzi D’s career as a DJ is a testament to his passion\, rhythm\, and unwavering dedication to the scene and the music. He has had residencies at some of London’s historically iconic venues and club nights\, including Epping Forest Country Club\, Bentleys\, Electric Ballroom\, We Love Soul and Remember The Times.\n\nAll About Da Boogie is thrilled to have Dezzi ready to deliver a unique and memorable dance floor experience.\n\nAll About Da Boogie\, Friday\, March 14th\nTickets are available via Eventbrite\n\nOr pay at the door (Cash or Card):£5.00 (Before 11 PM) / £10.00 (After 11 PM)\n\n\nFor further info contact AADB on 07957560557 or 07836 383222\nSee you on the dance floor!\n\n \n\n		\n	\n	\n	\n	\n		250314 EVENT PROMO	\n	\n	\n\n	\n 
URL:https://aitchb.com/event/all-about-da-boogie-horse-and-groom-fri-feb-14th-2025-3-2/
LOCATION:Horse and Groom\, 28 Curtain Road\, London\, EC2A 3NZ\, United Kingdom
CATEGORIES:Parties,Nightlife
ATTACH;FMTTYPE=image/png:https://aitchb.com/wp-content/uploads/2025/01/AADB-2nd-Friday.png
ORGANIZER;CN="Aitch B (SOUL360) & Perry Louis (JAZZCOTECH)":MAILTO:us@allaboutdaboogie.com
END:VEVENT
BEGIN:VEVENT
DTSTART;TZID=UTC:20250308T190000
DTEND;TZID=UTC:20250309T010000
DTSTAMP:20260423T220342
CREATED:20250202T224639Z
LAST-MODIFIED:20250302T105224Z
UID:1316-1741460400-1741482000@aitchb.com
SUMMARY:SOUL CLUB\, The Vault\, Morden\, Sat\, March 8th
DESCRIPTION:SOUL CLUB @ THE VAULT\n102-110 London Road\, Morden\, London SM4 5AX \nLaunch party 7PM-1AM\nSAT 08 MARCH 2025 \n\nAITCH B (Soul360)\nJOHNNY BOY\nDAVE STEWART\nPlus A Special LIVE appearance: GEORGIE B (Second Image/Groove Association + DJ set)\n\nHOUSE / SOUL / DISCO / BOOGIE / \nVENUE INFO: 1AM LICENCE / 180 CAPACITY / STATE OF THE ART SOUND SYSTEM / 8+ VISUAL SCREENS /\n100″ 4K SCREENS / FULLY LICENSED DOOR STAFF / FULLY EQUIPPED KITCHEN / GREAT VIBE / GREAT MUSIC /\nFuture SOUL CLUB dates for your clubbing calendar : 08 MAR / 12 APR / 28 JUN / 19 JUL / \nGrab your tickets now by clicking the image below \n\n \n\nCHECK OUT: LONDON MUSIC RADIO – LMR RADIO UK > www.londonmusicradio.com great music\, 24 hours a day\, download LMR APP and listen on the move\, check the app stores\, search for London Music Radio UK – get listening\, get involved – DAB+ / Ireland / Manchester / London + RADIO PLAYER APP London Music Radio \nLISTEN LIVE > London Music Radio Player / On-line / Smart Speaker / App / Skybox TV / Radio Player
URL:https://aitchb.com/event/soul-club-the-vault-morden-sat-march-8th/
LOCATION:The Vault\, 102 London Rd\,\, Morden\, SM4 5AX\, United Kingdom
CATEGORIES:Parties,Dance & Nightclub,Nightlife,Music
ATTACH;FMTTYPE=image/jpeg:https://aitchb.com/wp-content/uploads/2025/02/250308-Vault-MI.jpeg
END:VEVENT
BEGIN:VEVENT
DTSTART;TZID=UTC:20250222T170000
DTEND;TZID=UTC:20250223T010000
DTSTAMP:20260423T220342
CREATED:20250124T061601Z
LAST-MODIFIED:20250204T125105Z
UID:1263-1740243600-1740272400@aitchb.com
SUMMARY:SOUL ALL DAYER: THE MOBY DICK\, SAT\, FEB 22ND\, 2025
DESCRIPTION:The Legendary Essex Soul Party Presents..\nAn Over 40’s Soul Music Event\n\n\nGet ready for another unforgettable night at the legendary MOBY DICK!  \nWith an incredible DJ lineup\, this event promises to deliver all your favourite Soul Anthems and Dance Floor Fillers. \nFrom 5 PM all the way through to 1 AM\, eight fantastic DJs will keep the music flowing and the energy high. \nThis event is STRICTLY OVER 40s EVENT and TICKET ENTRY ONLY—so grab your tickets now! Head over to www.wegottickets.com/essexsoulparty to secure your spot. \nWhether you’re a seasoned soul music lover or just looking for a great night out\, this event is not to be missed. See you on the dance floor!
URL:https://aitchb.com/event/soul-all-dayer-the-moby-dick-sat-feb-22nd-2025/
LOCATION:The Moby Dick\, Whalebone Lane North\, Dagenham\, Romford\, RM6 6QU\, United Kingdom
CATEGORIES:Parties,Dance & Nightclub,Nightlife
ATTACH;FMTTYPE=image/png:https://aitchb.com/wp-content/uploads/2025/01/250222-Soul-All-Dayer-MI.png
END:VEVENT
BEGIN:VEVENT
DTSTART;TZID=Europe/London:20250215T200000
DTEND;TZID=Europe/London:20250216T010000
DTSTAMP:20260423T220342
CREATED:20250123T195746Z
LAST-MODIFIED:20250124T092848Z
UID:1241-1739649600-1739667600@aitchb.com
SUMMARY:HOT BUTTERED SOUL: Langdon Hills\, Sat\, Feb 15th\, 2025
DESCRIPTION:Hot Buttered Soul II\nSaturday\, 15th February\, 2025\nLuxurious Langdon Hills Country Club.  \nAitch B will be playing at the second Hot Buttered Soul session\, which will feature an unrivalled selection of classic soul\, rare groove and mellow funk \nJoining Aitch B on the night will be Fitzroy (Soul Survivors) and the very talented Kae Avae. \nThis will be a vinyl-only night of Rare Groove & Classic Soul. \nOver 35’s only  \nFree parking.  \nTickets are available via the link below.
URL:https://aitchb.com/event/hol-buttered-soul-langdon-hills-sat-feb-15th-2025-2/
LOCATION:Langdon Hills Golf Club\, Lower Dunton Rd\,\, Horndon on the Hill\,\, Upminster\, RM14 3TY
CATEGORIES:Parties,Nightlife
ATTACH;FMTTYPE=image/png:https://aitchb.com/wp-content/uploads/2025/01/250214-Hot-Buttered-Soul-MI.png
END:VEVENT
BEGIN:VEVENT
DTSTART;TZID=UTC:20250214T210000
DTEND;TZID=UTC:20250215T020000
DTSTAMP:20260423T220342
CREATED:20250123T191956Z
LAST-MODIFIED:20250202T231128Z
UID:1225-1739566800-1739584800@aitchb.com
SUMMARY:ALL ABOUT DA BOOGIE: Horse and Groom\, Fri\, Feb 14th 2025
DESCRIPTION:Perry Louis & Aitch B Presents: All About Da BoogieThe Ultimate Strictly Vinyl Funk\, Soul\, Jazz Funk\, Rare Groove\, and Boogie Party\nFriday\, February 14th\, 2025 / 9 PM – 2 AMThe Horse & Groom\, 28 Curtain Road\, London\, EC2A 3NZ\n\nYour Musical Curators:🎧 Perry Louis (JazzCotech\, Shiftless Shuffle\, Mi-Soul Radio)🎧 Aitch B (Soul360\, Soul II Soul\, London Music Radio)\n\n\nThis month’s featured guest DJ for All About Da Boogie is the one and only Ricky Morrison.\nOne of the UK’s most iconic house DJs and music producers will return to his roots to bring an authentic funk\, soul\, and boogie vinyl selection.\nFor one night only\, Ricky will be spinning an exclusive all-vinyl boogie set – so come and witness a rare chance to experience a true master at work. Ricky is looking forward to delivering a night of pure musical magic for the dancefloor\, and you don’t want to miss it.\n\n\nAll About Da Boogie on the 2nd Friday of every month\nAdmission:Advance tickets: £5 + BF (via Eventbrite)https://AADBFeb14.eventbrite.co.uk\nOr Pay at the door (Cash or Card):£5.00 (Before 11 PM) / £10.00 (After 11 PM)\n\n\nFor further info contact\, AADB on 07957560557 or 07836 383222\nSee you on the dance floor!\n\n \n\n		\n	\n	\n	\n	\n		250214 EVENT PROMO VIDEO	\n	\n	\n\n	\n 
URL:https://aitchb.com/event/all-about-da-boogie-horse-and-groom-fri-feb-14th-2025-3/
LOCATION:Horse and Groom\, 28 Curtain Road\, London\, EC2A 3NZ\, United Kingdom
CATEGORIES:Parties,Nightlife
ATTACH;FMTTYPE=image/png:https://aitchb.com/wp-content/uploads/2025/01/AADB-2nd-Friday.png
ORGANIZER;CN="Aitch B (SOUL360) & Perry Louis (JAZZCOTECH)":MAILTO:us@allaboutdaboogie.com
END:VEVENT
BEGIN:VEVENT
DTSTART;TZID=UTC:20240222T230000
DTEND;TZID=UTC:20240223T030000
DTSTAMP:20260423T220342
CREATED:20240116T003846Z
LAST-MODIFIED:20240116T004024Z
UID:1004-1708642800-1708657200@aitchb.com
SUMMARY:The LATE LATE SHOW: Ronnie Scotts\, London\, Thur\, Feb 22nd 2024
DESCRIPTION:Exciting news! On Thursday\, February 24th\, get ready for an electrifying performance as Aitch B takes the stage to augment Ronnie Scott’s Late Late Show\, hosted by the incredible Myele Manzanza. You won’t want to miss this captivating experience! \nAitch B will be DJing prior\, then during the intermission and finally after the live performance until close at what is undoubtedly one the world’s most renowned Iconic Jazz Clubs. \n\n \n\nMyele\, a founding member of Electric Wire Hustle\, is an extraordinary talent who has graced the music scene with five phenomenal solo albums. With a resume that includes tours and collaborations with the likes of Jordan Rakei\, Theo Parrish\, Miguel Atwood-Ferguson\, Recloose\, and Amp Fiddler\, Myele has cemented his place among the greats. \nNow based in vibrant London\, Myele’s quartet has taken the live music scene by storm\, sharing stages with renowned acts such as Hiatus Kaiyote\, The Bad Plus\, Alfa Mist\, and captivating packed houses. His groundbreaking ‘Crisis & Opportunity’ record series has earned him acclaim from industry heavyweights like Mary Anne Hobbs\, Cerys Matthews\, Jamie Cullum\, Huey Morgan\, The Guardian\, Complex\, Jazz FM\, Lefto\, Worldwide FM\, Jazzwise\, and many more. \nPrepare to be blown away by Myele’s unparalleled artistry and be a part of his musical journey that knows no bounds.
URL:https://aitchb.com/event/the-late-late-show-ronnie-scotts-london-thur-feb-22nd-2024/
LOCATION:Ronnie Scott’s\, 47 Frith St\,\, London\,\, W1D 4HT
CATEGORIES:Nightlife
ATTACH;FMTTYPE=image/webp:https://aitchb.com/wp-content/uploads/2024/01/240222-Myele-Manzanza-N23-scaled.webp
END:VEVENT
END:VCALENDAR